Package: signeR Version: 2.11.0 Command: /home/biocbuild/bbs-3.22-bioc/R/bin/R CMD INSTALL signeR StartedAt: 2025-07-15 15:50:20 -0400 (Tue, 15 Jul 2025) EndedAt: 2025-07-15 15:51:44 -0400 (Tue, 15 Jul 2025) EllapsedTime: 83.5 seconds RetCode: 0 Status: OK