Package: signatureSearch Version: 1.23.0 Command: /home/biocbuild/R/R/bin/R CMD INSTALL signatureSearch StartedAt: 2025-10-02 21:18:38 -0000 (Thu, 02 Oct 2025) EndedAt: 2025-10-02 21:21:04 -0000 (Thu, 02 Oct 2025) EllapsedTime: 145.6 seconds RetCode: 0 Status: OK