Package: signatureSearch Version: 1.23.0 Command: /home/biocbuild/R/R/bin/R CMD check --install=check:signatureSearch.install-out.txt --library=/home/biocbuild/R/R/site-library --no-vignettes --timings signatureSearch_1.23.0.tar.gz StartedAt: 2025-10-07 12:10:53 -0000 (Tue, 07 Oct 2025) EndedAt: 2025-10-07 12:22:50 -0000 (Tue, 07 Oct 2025) EllapsedTime: 717.0 seconds RetCode: 0 Status: OK CheckDir: signatureSearch.Rcheck Warnings: 0