Package: signatureSearch Version: 1.23.0 Command: /home/biocbuild/R/R/bin/R CMD build --keep-empty-dirs --no-resave-data signatureSearch StartedAt: 2025-10-03 03:13:44 -0000 (Fri, 03 Oct 2025) EndedAt: 2025-10-03 03:33:50 -0000 (Fri, 03 Oct 2025) EllapsedTime: 1205.4 seconds RetCode: 0 Status: OK PackageFile: signatureSearch_1.23.0.tar.gz PackageFileSize: 5.12 MiB