Package: sights Version: 1.35.0 Command: /home/biocbuild/R/R/bin/R CMD check --install=check:sights.install-out.txt --library=/home/biocbuild/R/R/site-library --no-vignettes --timings sights_1.35.0.tar.gz StartedAt: 2025-07-22 11:44:58 -0000 (Tue, 22 Jul 2025) EndedAt: 2025-07-22 11:47:16 -0000 (Tue, 22 Jul 2025) EllapsedTime: 138.3 seconds RetCode: 0 Status: OK CheckDir: sights.Rcheck Warnings: 0