Package: sights Version: 1.35.0 Command: /home/biocbuild/bbs-3.22-bioc/R/bin/R CMD INSTALL sights StartedAt: 2025-07-01 15:07:29 -0400 (Tue, 01 Jul 2025) EndedAt: 2025-07-01 15:07:59 -0400 (Tue, 01 Jul 2025) EllapsedTime: 30.3 seconds RetCode: 0 Status: OK