Package: siggenes Version: 1.83.0 Command: /home/biocbuild/R/R/bin/R CMD INSTALL siggenes StartedAt: 2025-07-17 20:22:19 -0000 (Thu, 17 Jul 2025) EndedAt: 2025-07-17 20:22:36 -0000 (Thu, 17 Jul 2025) EllapsedTime: 16.5 seconds RetCode: 0 Status: OK