Package: siggenes Version: 1.83.0 Command: /home/biocbuild/R/R/bin/R CMD build --keep-empty-dirs --no-resave-data siggenes StartedAt: 2025-07-18 03:07:35 -0000 (Fri, 18 Jul 2025) EndedAt: 2025-07-18 03:08:08 -0000 (Fri, 18 Jul 2025) EllapsedTime: 33.0 seconds RetCode: 0 Status: OK PackageFile: siggenes_1.83.0.tar.gz PackageFileSize: 732.4 KiB