Package: siggenes Version: 1.83.0 Command: chmod a+r siggenes -R && F:\biocbuild\bbs-3.22-bioc\R\bin\R.exe CMD build --keep-empty-dirs --no-resave-data siggenes StartedAt: 2025-07-24 22:20:45 -0400 (Thu, 24 Jul 2025) EndedAt: 2025-07-24 22:22:43 -0400 (Thu, 24 Jul 2025) EllapsedTime: 117.5 seconds RetCode: 0 Status: OK PackageFile: siggenes_1.83.0.tar.gz PackageFileSize: 515.3 KiB