Package: siggenes Version: 1.83.0 Command: rm -rf siggenes.buildbin-libdir && mkdir siggenes.buildbin-libdir && /Users/biocbuild/BBS/utils/build-universal.sh siggenes_1.83.0.tar.gz /Library/Frameworks/R.framework/Resources/bin/R siggenes.buildbin-libdir StartedAt: 2025-10-04 02:30:13 -0400 (Sat, 04 Oct 2025) EndedAt: 2025-10-04 02:30:34 -0400 (Sat, 04 Oct 2025) EllapsedTime: 20.7 seconds RetCode: 0 Status: OK PackageFile: siggenes_1.83.0.tgz PackageFileSize: 1.228 MiB