Package: sigFeature Version: 1.27.0 Command: F:\biocbuild\bbs-3.22-bioc\R\bin\R.exe CMD check --no-multiarch --install=check:sigFeature.install-out.txt --library=F:\biocbuild\bbs-3.22-bioc\R\library --no-vignettes --timings sigFeature_1.27.0.tar.gz StartedAt: 2025-07-23 06:44:42 -0400 (Wed, 23 Jul 2025) EndedAt: 2025-07-23 06:49:03 -0400 (Wed, 23 Jul 2025) EllapsedTime: 261.1 seconds RetCode: 0 Status: WARNINGS CheckDir: sigFeature.Rcheck Warnings: 1