Package: shinyepico Version: 1.17.0 Command: /home/biocbuild/R/R/bin/R CMD check --install=check:shinyepico.install-out.txt --library=/home/biocbuild/R/R/site-library --no-vignettes --timings shinyepico_1.17.0.tar.gz StartedAt: 2025-07-11 12:19:03 -0000 (Fri, 11 Jul 2025) EndedAt: 2025-07-11 12:22:34 -0000 (Fri, 11 Jul 2025) EllapsedTime: 211.3 seconds RetCode: 0 Status: OK CheckDir: shinyepico.Rcheck Warnings: 0