Package: shinyepico Version: 1.17.0 Command: /Library/Frameworks/R.framework/Resources/bin/R CMD INSTALL shinyepico StartedAt: 2025-07-13 15:38:29 -0400 (Sun, 13 Jul 2025) EndedAt: 2025-07-13 15:38:37 -0400 (Sun, 13 Jul 2025) EllapsedTime: 8.0 seconds RetCode: 0 Status: OK