Package: shinyepico Version: 1.17.0 Command: /Library/Frameworks/R.framework/Resources/bin/R CMD build --keep-empty-dirs --no-resave-data shinyepico StartedAt: 2025-07-16 17:33:51 -0400 (Wed, 16 Jul 2025) EndedAt: 2025-07-16 17:33:56 -0400 (Wed, 16 Jul 2025) EllapsedTime: 5.1 seconds RetCode: 0 Status: OK PackageFile: shinyepico_1.17.0.tar.gz PackageFileSize: 2.248 MiB