Package: shinybiocloader Version: 0.99.1 Command: /Library/Frameworks/R.framework/Resources/bin/R CMD INSTALL shinybiocloader StartedAt: 2025-10-05 15:10:31 -0400 (Sun, 05 Oct 2025) EndedAt: 2025-10-05 15:11:13 -0400 (Sun, 05 Oct 2025) EllapsedTime: 42.2 seconds RetCode: 0 Status: OK