Package: shinybiocloader Version: 0.99.1 Command: /Library/Frameworks/R.framework/Resources/bin/R CMD build --keep-empty-dirs --no-resave-data shinybiocloader StartedAt: 2025-10-05 18:59:50 -0400 (Sun, 05 Oct 2025) EndedAt: 2025-10-05 19:00:03 -0400 (Sun, 05 Oct 2025) EllapsedTime: 13.7 seconds RetCode: 0 Status: OK PackageFile: shinybiocloader_0.99.1.tar.gz PackageFileSize: 28.82 KiB