Package: shinybiocloader Version: 0.99.1 Command: /Library/Frameworks/R.framework/Resources/bin/R CMD INSTALL shinybiocloader StartedAt: 2025-10-05 15:04:47 -0400 (Sun, 05 Oct 2025) EndedAt: 2025-10-05 15:05:03 -0400 (Sun, 05 Oct 2025) EllapsedTime: 15.7 seconds RetCode: 0 Status: OK