Package: shinyMethyl Version: 1.45.0 Command: /home/biocbuild/R/R/bin/R CMD INSTALL shinyMethyl StartedAt: 2025-07-14 21:03:21 -0000 (Mon, 14 Jul 2025) EndedAt: 2025-07-14 21:04:19 -0000 (Mon, 14 Jul 2025) EllapsedTime: 58.2 seconds RetCode: 0 Status: OK