Package: shinyMethyl Version: 1.45.0 Command: F:\biocbuild\bbs-3.22-bioc\R\bin\R.exe CMD INSTALL shinyMethyl StartedAt: 2025-07-07 16:41:41 -0400 (Mon, 07 Jul 2025) EndedAt: 2025-07-07 16:42:45 -0400 (Mon, 07 Jul 2025) EllapsedTime: 64.0 seconds RetCode: 0 Status: OK