Package: shinyMethyl Version: 1.45.0 Command: F:\biocbuild\bbs-3.22-bioc\R\bin\R.exe CMD check --no-multiarch --install=check:shinyMethyl.install-out.txt --library=F:\biocbuild\bbs-3.22-bioc\R\library --no-vignettes --timings shinyMethyl_1.45.0.tar.gz StartedAt: 2025-07-08 06:32:36 -0400 (Tue, 08 Jul 2025) EndedAt: 2025-07-08 06:40:10 -0400 (Tue, 08 Jul 2025) EllapsedTime: 453.6 seconds RetCode: 0 Status: OK CheckDir: shinyMethyl.Rcheck Warnings: 0