Package: shinyMethyl Version: 1.45.0 Command: /home/biocbuild/bbs-3.22-bioc/R/bin/R CMD INSTALL shinyMethyl StartedAt: 2025-07-07 15:41:00 -0400 (Mon, 07 Jul 2025) EndedAt: 2025-07-07 15:41:48 -0400 (Mon, 07 Jul 2025) EllapsedTime: 48.7 seconds RetCode: 0 Status: OK