Package: shinyMethyl Version: 1.45.0 Command: /home/biocbuild/bbs-3.22-bioc/R/bin/R CMD build --keep-empty-dirs --no-resave-data --md5 shinyMethyl StartedAt: 2025-07-07 19:11:27 -0400 (Mon, 07 Jul 2025) EndedAt: 2025-07-07 19:12:34 -0400 (Mon, 07 Jul 2025) EllapsedTime: 67.1 seconds RetCode: 0 Status: OK PackageFile: shinyMethyl_1.45.0.tar.gz PackageFileSize: 7.244 MiB