Package: shinyMethyl Version: 1.45.0 Command: /Library/Frameworks/R.framework/Resources/bin/R CMD build --keep-empty-dirs --no-resave-data shinyMethyl StartedAt: 2025-07-07 17:32:45 -0400 (Mon, 07 Jul 2025) EndedAt: 2025-07-07 17:33:15 -0400 (Mon, 07 Jul 2025) EllapsedTime: 29.4 seconds RetCode: 0 Status: OK PackageFile: shinyMethyl_1.45.0.tar.gz PackageFileSize: 7.241 MiB