Package: shinyMethyl Version: 1.45.0 Maintainer: Jean-Philippe Fortin MaintainerEmail: fortin946 at gmail.com git_url: https://git.bioconductor.org/packages/shinyMethyl git_branch: devel git_last_commit: 47b80b9 git_last_commit_date: 2025-04-15 10:32:29 -0400 (Tue, 15 Apr 2025)