Package: shiny.gosling Version: 1.5.0 Command: rm -rf shiny.gosling.buildbin-libdir && mkdir shiny.gosling.buildbin-libdir && F:\biocbuild\bbs-3.22-bioc\R\bin\R.exe CMD INSTALL --build --library=shiny.gosling.buildbin-libdir shiny.gosling_1.5.0.tar.gz StartedAt: 2025-07-23 10:09:01 -0400 (Wed, 23 Jul 2025) EndedAt: 2025-07-23 10:11:30 -0400 (Wed, 23 Jul 2025) EllapsedTime: 148.6 seconds RetCode: 0 Status: OK PackageFile: shiny.gosling_1.5.0.zip PackageFileSize: 1.108 MiB