Package: sevenC Version: 1.29.0 Command: /home/biocbuild/R/R/bin/R CMD INSTALL sevenC StartedAt: 2025-07-21 20:50:40 -0000 (Mon, 21 Jul 2025) EndedAt: 2025-07-21 20:51:13 -0000 (Mon, 21 Jul 2025) EllapsedTime: 32.8 seconds RetCode: 0 Status: OK