Package: seqsetvis Version: 1.29.1 Command: /home/biocbuild/R/R/bin/R CMD build --keep-empty-dirs --no-resave-data seqsetvis StartedAt: 2025-10-03 03:10:14 -0000 (Fri, 03 Oct 2025) EndedAt: 2025-10-03 03:12:10 -0000 (Fri, 03 Oct 2025) EllapsedTime: 116.1 seconds RetCode: 0 Status: OK PackageFile: seqsetvis_1.29.1.tar.gz PackageFileSize: 1.405 MiB