Package: seqsetvis Version: 1.29.1 Command: chmod a+r seqsetvis -R && F:\biocbuild\bbs-3.22-bioc\R\bin\R.exe CMD build --keep-empty-dirs --no-resave-data seqsetvis StartedAt: 2025-08-14 23:14:30 -0400 (Thu, 14 Aug 2025) EndedAt: 2025-08-14 23:17:00 -0400 (Thu, 14 Aug 2025) EllapsedTime: 149.8 seconds RetCode: 0 Status: OK PackageFile: seqsetvis_1.29.1.tar.gz PackageFileSize: 1.201 MiB