Package: seqsetvis Version: 1.29.1 Command: rm -rf seqsetvis.buildbin-libdir && mkdir seqsetvis.buildbin-libdir && F:\biocbuild\bbs-3.22-bioc\R\bin\R.exe CMD INSTALL --build --library=seqsetvis.buildbin-libdir seqsetvis_1.29.1.tar.gz StartedAt: 2025-08-15 11:18:25 -0400 (Fri, 15 Aug 2025) EndedAt: 2025-08-15 11:20:13 -0400 (Fri, 15 Aug 2025) EllapsedTime: 107.9 seconds RetCode: 0 Status: OK PackageFile: seqsetvis_1.29.1.zip PackageFileSize: 1.549 MiB