Package: seqsetvis Version: 1.29.1 Command: rm -rf seqsetvis.buildbin-libdir && mkdir seqsetvis.buildbin-libdir && /Users/biocbuild/BBS/utils/build-universal.sh seqsetvis_1.29.1.tar.gz /Library/Frameworks/R.framework/Resources/bin/R seqsetvis.buildbin-libdir StartedAt: 2025-10-03 22:55:48 -0400 (Fri, 03 Oct 2025) EndedAt: 2025-10-03 22:56:04 -0400 (Fri, 03 Oct 2025) EllapsedTime: 16.3 seconds RetCode: 0 Status: OK PackageFile: seqsetvis_1.29.1.tgz PackageFileSize: 2.413 MiB