Package: seqsetvis Version: 1.29.1 Maintainer: Joseph R Boyd MaintainerEmail: jrboyd at uvm.edu git_url: https://git.bioconductor.org/packages/seqsetvis git_branch: devel git_last_commit: c75429d git_last_commit_date: 2025-07-23 17:50:06 -0400 (Wed, 23 Jul 2025)