############################################################################## ############################################################################## ### ### Running command: ### ### F:\biocbuild\bbs-3.22-bioc\R\bin\R.exe CMD INSTALL seqTools ### ############################################################################## ############################################################################## * installing to library 'F:/biocbuild/bbs-3.22-bioc/R/library' ERROR: dependency 'zlibbioc' is not available for package 'seqTools' Perhaps try a variation of: install.packages('zlibbioc') * removing 'F:/biocbuild/bbs-3.22-bioc/R/library/seqTools'