Package: seqTools Version: 1.43.1 Command: chmod a+r seqTools -R && F:\biocbuild\bbs-3.22-bioc\R\bin\R.exe CMD build --keep-empty-dirs --no-resave-data seqTools StartedAt: 2025-07-11 22:02:03 -0400 (Fri, 11 Jul 2025) EndedAt: 2025-07-11 22:02:08 -0400 (Fri, 11 Jul 2025) EllapsedTime: 4.3 seconds RetCode: 1 Status: ERROR PackageFile: None PackageFileSize: NA