############################################################################## ############################################################################## ### ### Running command: ### ### chmod a+r seqTools -R && F:\biocbuild\bbs-3.22-bioc\R\bin\R.exe CMD build --keep-empty-dirs --no-resave-data seqTools ### ############################################################################## ############################################################################## * checking for file 'seqTools/DESCRIPTION' ... OK * preparing 'seqTools': * checking DESCRIPTION meta-information ... OK * cleaning src * installing the package to build vignettes ----------------------------------- ERROR: dependency 'zlibbioc' is not available for package 'seqTools' Perhaps try a variation of: install.packages('zlibbioc') * removing 'F:/biocbuild/bbs-3.22-bioc/tmpdir/RtmpaCO0jv/Rinst19a7871472c16/seqTools' ----------------------------------- ERROR: package installation failed