Package: seqTools Version: 1.43.0 Command: rm -rf seqTools.buildbin-libdir && mkdir seqTools.buildbin-libdir && F:\biocbuild\bbs-3.22-bioc\R\bin\R.exe CMD INSTALL --build --library=seqTools.buildbin-libdir seqTools_1.43.0.tar.gz StartedAt: 2025-04-18 10:47:38 -0400 (Fri, 18 Apr 2025) EndedAt: 2025-04-18 10:48:42 -0400 (Fri, 18 Apr 2025) EllapsedTime: 64.5 seconds RetCode: 0 Status: OK PackageFile: seqTools_1.43.0.zip PackageFileSize: 656 KiB