Package: seqPattern Version: 1.41.0 Command: /home/biocbuild/bbs-3.22-bioc/R/bin/R CMD INSTALL seqPattern StartedAt: 2025-10-06 15:16:38 -0400 (Mon, 06 Oct 2025) EndedAt: 2025-10-06 15:16:48 -0400 (Mon, 06 Oct 2025) EllapsedTime: 10.6 seconds RetCode: 0 Status: OK