Package: seqPattern Version: 1.41.0 Command: /home/biocbuild/bbs-3.22-bioc/R/bin/R CMD check --install=check:seqPattern.install-out.txt --library=/home/biocbuild/bbs-3.22-bioc/R/site-library --timings seqPattern_1.41.0.tar.gz StartedAt: 2025-10-07 04:17:31 -0400 (Tue, 07 Oct 2025) EndedAt: 2025-10-07 04:20:04 -0400 (Tue, 07 Oct 2025) EllapsedTime: 153.1 seconds RetCode: 0 Status: OK CheckDir: seqPattern.Rcheck Warnings: 0