Package: seqCAT Version: 1.31.0 Command: /home/biocbuild/R/R/bin/R CMD build --keep-empty-dirs --no-resave-data seqCAT StartedAt: 2025-10-03 03:09:12 -0000 (Fri, 03 Oct 2025) EndedAt: 2025-10-03 03:11:20 -0000 (Fri, 03 Oct 2025) EllapsedTime: 128.1 seconds RetCode: 0 Status: OK PackageFile: seqCAT_1.31.0.tar.gz PackageFileSize: 1.87 MiB