Package: seqArchRplus Version: 1.9.0 Command: /Library/Frameworks/R.framework/Resources/bin/R CMD check --install=check:seqArchRplus.install-out.txt --library=/Library/Frameworks/R.framework/Resources/library --no-vignettes --timings seqArchRplus_1.9.0.tar.gz StartedAt: 2025-07-04 23:23:28 -0400 (Fri, 04 Jul 2025) EndedAt: 2025-07-04 23:23:34 -0400 (Fri, 04 Jul 2025) EllapsedTime: 5.7 seconds RetCode: 1 Status: ERROR CheckDir: seqArchRplus.Rcheck Warnings: NA