Package: seqArchRplus Version: 1.9.0 Command: /Library/Frameworks/R.framework/Resources/bin/R CMD INSTALL seqArchRplus StartedAt: 2025-07-01 15:30:45 -0400 (Tue, 01 Jul 2025) EndedAt: 2025-07-01 15:30:54 -0400 (Tue, 01 Jul 2025) EllapsedTime: 9.1 seconds RetCode: 0 Status: OK