Package: seqArchRplus Version: 1.9.0 Command: /Library/Frameworks/R.framework/Resources/bin/R CMD build --keep-empty-dirs --no-resave-data seqArchRplus StartedAt: 2025-07-01 17:33:04 -0400 (Tue, 01 Jul 2025) EndedAt: 2025-07-01 17:34:11 -0400 (Tue, 01 Jul 2025) EllapsedTime: 66.8 seconds RetCode: 0 Status: OK PackageFile: seqArchRplus_1.9.0.tar.gz PackageFileSize: 3.7 MiB