Package: seqArchRplus Version: 1.9.0 Command: rm -rf seqArchRplus.buildbin-libdir && mkdir seqArchRplus.buildbin-libdir && /Users/biocbuild/BBS/utils/build-universal.sh seqArchRplus_1.9.0.tar.gz /Library/Frameworks/R.framework/Resources/bin/R seqArchRplus.buildbin-libdir StartedAt: 2025-07-01 22:34:51 -0400 (Tue, 01 Jul 2025) EndedAt: 2025-07-01 22:35:01 -0400 (Tue, 01 Jul 2025) EllapsedTime: 10.3 seconds RetCode: 0 Status: OK PackageFile: seqArchRplus_1.9.0.tgz PackageFileSize: 3.806 MiB