Package: seq2pathway Version: 1.41.0 Command: /home/biocbuild/R/R/bin/R CMD INSTALL seq2pathway StartedAt: 2025-07-14 21:09:34 -0000 (Mon, 14 Jul 2025) EndedAt: 2025-07-14 21:10:04 -0000 (Mon, 14 Jul 2025) EllapsedTime: 30.2 seconds RetCode: 0 Status: OK