Package: seq2pathway Version: 1.41.0 Command: /home/biocbuild/R/R/bin/R CMD check --install=check:seq2pathway.install-out.txt --library=/home/biocbuild/R/R/site-library --no-vignettes --timings seq2pathway_1.41.0.tar.gz StartedAt: 2025-07-18 11:06:34 -0000 (Fri, 18 Jul 2025) EndedAt: 2025-07-18 11:11:13 -0000 (Fri, 18 Jul 2025) EllapsedTime: 279.3 seconds RetCode: 0 Status: WARNINGS CheckDir: seq2pathway.Rcheck Warnings: 2