Package: seq2pathway Version: 1.41.0 Command: chmod a+r seq2pathway -R && F:\biocbuild\bbs-3.22-bioc\R\bin\R.exe CMD build --keep-empty-dirs --no-resave-data seq2pathway StartedAt: 2025-07-24 22:16:44 -0400 (Thu, 24 Jul 2025) EndedAt: 2025-07-24 22:18:13 -0400 (Thu, 24 Jul 2025) EllapsedTime: 88.6 seconds RetCode: 0 Status: OK PackageFile: seq2pathway_1.41.0.tar.gz PackageFileSize: 1.417 MiB