Package: seq2pathway Version: 1.41.0 Command: /Library/Frameworks/R.framework/Resources/bin/R CMD build --keep-empty-dirs --no-resave-data seq2pathway StartedAt: 2025-07-01 18:32:41 -0400 (Tue, 01 Jul 2025) EndedAt: 2025-07-01 18:33:52 -0400 (Tue, 01 Jul 2025) EllapsedTime: 70.8 seconds RetCode: 0 Status: OK PackageFile: seq2pathway_1.41.0.tar.gz PackageFileSize: 1.414 MiB