Package: seq2pathway Version: 1.41.0 Command: /Library/Frameworks/R.framework/Resources/bin/R CMD INSTALL seq2pathway StartedAt: 2025-07-13 15:24:27 -0400 (Sun, 13 Jul 2025) EndedAt: 2025-07-13 15:24:36 -0400 (Sun, 13 Jul 2025) EllapsedTime: 9.4 seconds RetCode: 0 Status: OK