Package: seq2pathway Version: 1.41.0 Command: /Library/Frameworks/R.framework/Resources/bin/R CMD check --install=check:seq2pathway.install-out.txt --library=/Library/Frameworks/R.framework/Resources/library --no-vignettes --timings seq2pathway_1.41.0.tar.gz StartedAt: 2025-07-13 21:21:02 -0400 (Sun, 13 Jul 2025) EndedAt: 2025-07-13 21:22:31 -0400 (Sun, 13 Jul 2025) EllapsedTime: 89.2 seconds RetCode: 0 Status: WARNINGS CheckDir: seq2pathway.Rcheck Warnings: 2