Package: seq2pathway Version: 1.41.0 Command: /Library/Frameworks/R.framework/Resources/bin/R CMD build --keep-empty-dirs --no-resave-data seq2pathway StartedAt: 2025-07-13 17:32:40 -0400 (Sun, 13 Jul 2025) EndedAt: 2025-07-13 17:33:10 -0400 (Sun, 13 Jul 2025) EllapsedTime: 30.4 seconds RetCode: 0 Status: OK PackageFile: seq2pathway_1.41.0.tar.gz PackageFileSize: 1.417 MiB