Package: seq.hotSPOT Version: 1.9.0 Command: /home/biocbuild/R/R/bin/R CMD INSTALL seq.hotSPOT StartedAt: 2025-07-24 21:00:28 -0000 (Thu, 24 Jul 2025) EndedAt: 2025-07-24 21:00:57 -0000 (Thu, 24 Jul 2025) EllapsedTime: 28.3 seconds RetCode: 0 Status: OK